BEGIN:VCALENDAR
VERSION:2.0
PRODID:-//Shrine - ECPv6.15.11//NONSGML v1.0//EN
CALSCALE:GREGORIAN
METHOD:PUBLISH
X-WR-CALNAME:Shrine
X-ORIGINAL-URL:https://shrineparties.com
X-WR-CALDESC:Events for Shrine
REFRESH-INTERVAL;VALUE=DURATION:PT1H
X-Robots-Tag:noindex
X-PUBLISHED-TTL:PT1H
BEGIN:VTIMEZONE
TZID:UTC
BEGIN:STANDARD
TZOFFSETFROM:+0000
TZOFFSETTO:+0000
TZNAME:UTC
DTSTART:20230101T000000
END:STANDARD
END:VTIMEZONE
BEGIN:VEVENT
DTSTART;TZID=UTC:20250423T190000
DTEND;TZID=UTC:20250423T220000
DTSTAMP:20260423T213715
CREATED:20240828T193412Z
LAST-MODIFIED:20251110T175334Z
UID:10000073-1745434800-1745445600@shrineparties.com
SUMMARY:Austin April Munch
DESCRIPTION:If you are looking to meet folks\, discuss scenes\, or talk kink before Shrine in a casual setting\, then you should attend our munch! Typically the Wednesday before Shrine at the Hideout Pub. Valentines Day falls on the Wednesday before Shrine so we will be hosting February’s Munch two weeks before Shrine Know before you go:  \n\n21+\, tip your bartenders.\nKitchen open until midnight.\nStreetwear only\nThe group is on the back porch\, weather permitted. You can find hosts wearing a Shrine shirt or badge.\n\n See you soon!
URL:https://shrineparties.com/event/austin-april-munch/
LOCATION:The Hideout Pub\, 12164 TX-1 Loop\, Austin\, TX\, 78758\, United States
CATEGORIES:Austin
END:VEVENT
BEGIN:VEVENT
DTSTART;TZID=UTC:20250312T190000
DTEND;TZID=UTC:20250312T220000
DTSTAMP:20260423T213715
CREATED:20240828T193357Z
LAST-MODIFIED:20251110T175335Z
UID:10000072-1741806000-1741816800@shrineparties.com
SUMMARY:Austin March Munch
DESCRIPTION:If you are looking to meet folks\, discuss scenes\, or talk kink before Shrine in a casual setting\, then you should attend our munch! Typically the Wednesday before Shrine at the Hideout Pub. Valentines Day falls on the Wednesday before Shrine so we will be hosting February’s Munch two weeks before Shrine Know before you go:  \n\n21+\, tip your bartenders.\nKitchen open until midnight.\nStreetwear only\nThe group is on the back porch\, weather permitted. You can find hosts wearing a Shrine shirt or badge.\n\n See you soon!
URL:https://shrineparties.com/event/austin-march-munch/
LOCATION:The Hideout Pub\, 12164 TX-1 Loop\, Austin\, TX\, 78758\, United States
CATEGORIES:Austin
END:VEVENT
BEGIN:VEVENT
DTSTART;TZID=UTC:20250212T190000
DTEND;TZID=UTC:20250212T220000
DTSTAMP:20260423T213715
CREATED:20240828T193357Z
LAST-MODIFIED:20251110T175335Z
UID:10000071-1739386800-1739397600@shrineparties.com
SUMMARY:Austin February Munch
DESCRIPTION:If you are looking to meet folks\, discuss scenes\, or talk kink before Shrine in a casual setting\, then you should attend our munch! Typically the Wednesday before Shrine at the Hideout Pub. Valentines Day falls on the Wednesday before Shrine so we will be hosting February’s Munch two weeks before Shrine Know before you go:  \n\n21+\, tip your bartenders.\nKitchen open until midnight.\nStreetwear only\nThe group is on the back porch\, weather permitted. You can find hosts wearing a Shrine shirt or badge.\n\n See you soon!
URL:https://shrineparties.com/event/austin-february-munch-2/
LOCATION:The Hideout Pub\, 12164 TX-1 Loop\, Austin\, TX\, 78758\, United States
CATEGORIES:Austin
END:VEVENT
BEGIN:VEVENT
DTSTART;TZID=UTC:20250115T190000
DTEND;TZID=UTC:20250115T220000
DTSTAMP:20260423T213715
CREATED:20240828T193357Z
LAST-MODIFIED:20251110T175335Z
UID:10000070-1736967600-1736978400@shrineparties.com
SUMMARY:Austin January Munch
DESCRIPTION:If you are looking to meet folks\, discuss scenes\, or talk kink before Shrine in a casual setting\, then you should attend our munch! Typically the Wednesday before Shrine at the Hideout Pub. Valentines Day falls on the Wednesday before Shrine so we will be hosting February’s Munch two weeks before Shrine Know before you go:  \n\n21+\, tip your bartenders.\nKitchen open until midnight.\nStreetwear only\nThe group is on the back porch\, weather permitted. You can find hosts wearing a Shrine shirt or badge.\n\n See you soon!
URL:https://shrineparties.com/event/austin-january-munch/
LOCATION:The Hideout Pub\, 12164 TX-1 Loop\, Austin\, TX\, 78758\, United States
CATEGORIES:Austin
END:VEVENT
BEGIN:VEVENT
DTSTART;TZID=UTC:20241204T190000
DTEND;TZID=UTC:20241204T220000
DTSTAMP:20260423T213715
CREATED:20240202T215923Z
LAST-MODIFIED:20251110T175335Z
UID:10000039-1733338800-1733349600@shrineparties.com
SUMMARY:Austin December Munch
DESCRIPTION:If you are looking to meet folks\, discuss scenes\, or talk kink before Shrine in a casual setting\, then you should attend our munch! \nTypically the Wednesday before Shrine at the Hideout Pub. Valentines Day falls on the Wednesday before Shrine so we will be hosting February’s Munch two weeks before Shrine \nKnow before you go: \n\n21+\, tip your bartenders.\nKitchen open until midnight.\nStreetwear only\nThe group is on the back porch\, weather permitted. You can find hosts wearing a Shrine shirt or badge.\n\nSee you soon!
URL:https://shrineparties.com/event/austin-december-munch-24/
LOCATION:The Hideout Pub\, 12164 TX-1 Loop\, Austin\, TX\, 78758\, United States
CATEGORIES:Austin
END:VEVENT
BEGIN:VEVENT
DTSTART;TZID=UTC:20241106T190000
DTEND;TZID=UTC:20241106T220000
DTSTAMP:20260423T213715
CREATED:20240202T215852Z
LAST-MODIFIED:20251110T175335Z
UID:10000038-1730919600-1730930400@shrineparties.com
SUMMARY:Austin November Munch
DESCRIPTION:If you are looking to meet folks\, discuss scenes\, or talk kink before Shrine in a casual setting\, then you should attend our munch! \nTypically the Wednesday before Shrine at the Hideout Pub. Valentines Day falls on the Wednesday before Shrine so we will be hosting February’s Munch two weeks before Shrine \nKnow before you go: \n\n21+\, tip your bartenders.\nKitchen open until midnight.\nStreetwear only\nThe group is on the back porch\, weather permitted. You can find hosts wearing a Shrine shirt or badge.\n\nSee you soon!
URL:https://shrineparties.com/event/austin-november-munch-24/
LOCATION:The Hideout Pub\, 12164 TX-1 Loop\, Austin\, TX\, 78758\, United States
CATEGORIES:Austin
END:VEVENT
BEGIN:VEVENT
DTSTART;TZID=UTC:20241002T190000
DTEND;TZID=UTC:20241002T220000
DTSTAMP:20260423T213715
CREATED:20240202T215817Z
LAST-MODIFIED:20251110T175335Z
UID:10000037-1727895600-1727906400@shrineparties.com
SUMMARY:Austin October Munch
DESCRIPTION:If you are looking to meet folks\, discuss scenes\, or talk kink before Shrine in a casual setting\, then you should attend our munch! \nTypically the Wednesday before Shrine at the Hideout Pub. Valentines Day falls on the Wednesday before Shrine so we will be hosting February’s Munch two weeks before Shrine \nKnow before you go: \n\n21+\, tip your bartenders.\nKitchen open until midnight.\nStreetwear only\nThe group is on the back porch\, weather permitted. You can find hosts wearing a Shrine shirt or badge.\n\nSee you soon!
URL:https://shrineparties.com/event/austin-october-munch-24/
LOCATION:The Hideout Pub\, 12164 TX-1 Loop\, Austin\, TX\, 78758\, United States
CATEGORIES:Austin
END:VEVENT
BEGIN:VEVENT
DTSTART;TZID=UTC:20240828T190000
DTEND;TZID=UTC:20240828T220000
DTSTAMP:20260423T213715
CREATED:20240202T215234Z
LAST-MODIFIED:20240202T215234Z
UID:10000035-1724871600-1724882400@shrineparties.com
SUMMARY:Austin August Munch
DESCRIPTION:If you are looking to meet folks\, discuss scenes\, or talk kink before Shrine in a casual setting\, then you should attend our munch! \nTypically the Wednesday before Shrine at the Hideout Pub. Valentines Day falls on the Wednesday before Shrine so we will be hosting February’s Munch two weeks before Shrine \nKnow before you go: \n\n21+\, tip your bartenders.\nKitchen open until midnight.\nStreetwear only\nThe group is on the back porch\, weather permitted. You can find hosts wearing a Shrine shirt or badge.\n\nSee you soon!
URL:https://shrineparties.com/event/austin-august-munch-24/
LOCATION:The Hideout Pub\, 12164 TX-1 Loop\, Austin\, TX\, 78758\, United States
CATEGORIES:Austin
END:VEVENT
BEGIN:VEVENT
DTSTART;TZID=UTC:20240731T190000
DTEND;TZID=UTC:20240731T220000
DTSTAMP:20260423T213715
CREATED:20240202T215150Z
LAST-MODIFIED:20240202T215150Z
UID:10000034-1722452400-1722463200@shrineparties.com
SUMMARY:Austin July Munch 2
DESCRIPTION:If you are looking to meet folks\, discuss scenes\, or talk kink before Shrine in a casual setting\, then you should attend our munch! \nTypically the Wednesday before Shrine at the Hideout Pub. Valentines Day falls on the Wednesday before Shrine so we will be hosting February’s Munch two weeks before Shrine \nKnow before you go: \n\n21+\, tip your bartenders.\nKitchen open until midnight.\nStreetwear only\nThe group is on the back porch\, weather permitted. You can find hosts wearing a Shrine shirt or badge.\n\nSee you soon!
URL:https://shrineparties.com/event/austin-july-munch-24-2/
LOCATION:The Hideout Pub\, 12164 TX-1 Loop\, Austin\, TX\, 78758\, United States
CATEGORIES:Austin
END:VEVENT
BEGIN:VEVENT
DTSTART;TZID=UTC:20240710T190000
DTEND;TZID=UTC:20240710T220000
DTSTAMP:20260423T213715
CREATED:20240202T215020Z
LAST-MODIFIED:20240202T215020Z
UID:10000033-1720638000-1720648800@shrineparties.com
SUMMARY:Austin July Munch
DESCRIPTION:If you are looking to meet folks\, discuss scenes\, or talk kink before Shrine in a casual setting\, then you should attend our munch! \nTypically the Wednesday before Shrine at the Hideout Pub. Valentines Day falls on the Wednesday before Shrine so we will be hosting February’s Munch two weeks before Shrine \nKnow before you go: \n\n21+\, tip your bartenders.\nKitchen open until midnight.\nStreetwear only\nThe group is on the back porch\, weather permitted. You can find hosts wearing a Shrine shirt or badge.\n\nSee you soon!
URL:https://shrineparties.com/event/austin-july-munch-24/
LOCATION:The Hideout Pub\, 12164 TX-1 Loop\, Austin\, TX\, 78758\, United States
CATEGORIES:Austin
END:VEVENT
BEGIN:VEVENT
DTSTART;TZID=UTC:20240619T190000
DTEND;TZID=UTC:20240619T220000
DTSTAMP:20260423T213715
CREATED:20240202T214930Z
LAST-MODIFIED:20240202T214930Z
UID:10000032-1718823600-1718834400@shrineparties.com
SUMMARY:Austin June Munch
DESCRIPTION:If you are looking to meet folks\, discuss scenes\, or talk kink before Shrine in a casual setting\, then you should attend our munch! \nTypically the Wednesday before Shrine at the Hideout Pub. Valentines Day falls on the Wednesday before Shrine so we will be hosting February’s Munch two weeks before Shrine \nKnow before you go: \n\n21+\, tip your bartenders.\nKitchen open until midnight.\nStreetwear only\nThe group is on the back porch\, weather permitted. You can find hosts wearing a Shrine shirt or badge.\n\nSee you soon!
URL:https://shrineparties.com/event/austin-june-munch-24/
LOCATION:The Hideout Pub\, 12164 TX-1 Loop\, Austin\, TX\, 78758\, United States
CATEGORIES:Austin
END:VEVENT
BEGIN:VEVENT
DTSTART;TZID=UTC:20240522T190000
DTEND;TZID=UTC:20240522T220000
DTSTAMP:20260423T213715
CREATED:20240202T214726Z
LAST-MODIFIED:20240202T214856Z
UID:10000031-1716404400-1716415200@shrineparties.com
SUMMARY:Austin May Munch
DESCRIPTION:If you are looking to meet folks\, discuss scenes\, or talk kink before Shrine in a casual setting\, then you should attend our munch! \nTypically the Wednesday before Shrine at the Hideout Pub. Valentines Day falls on the Wednesday before Shrine so we will be hosting February’s Munch two weeks before Shrine \nKnow before you go: \n\n21+\, tip your bartenders.\nKitchen open until midnight.\nStreetwear only\nThe group is on the back porch\, weather permitted. You can find hosts wearing a Shrine shirt or badge.\n\nSee you soon!
URL:https://shrineparties.com/event/austin-may-munch-24/
LOCATION:The Hideout Pub\, 12164 TX-1 Loop\, Austin\, TX\, 78758\, United States
CATEGORIES:Austin
END:VEVENT
BEGIN:VEVENT
DTSTART;TZID=UTC:20240424T190000
DTEND;TZID=UTC:20240424T220000
DTSTAMP:20260423T213715
CREATED:20240202T214633Z
LAST-MODIFIED:20240202T214633Z
UID:10000030-1713985200-1713996000@shrineparties.com
SUMMARY:Austin April Munch
DESCRIPTION:If you are looking to meet folks\, discuss scenes\, or talk kink before Shrine in a casual setting\, then you should attend our munch! \nTypically the Wednesday before Shrine at the Hideout Pub. Valentines Day falls on the Wednesday before Shrine so we will be hosting February’s Munch two weeks before Shrine \nKnow before you go: \n\n21+\, tip your bartenders.\nKitchen open until midnight.\nStreetwear only\nThe group is on the back porch\, weather permitted. You can find hosts wearing a Shrine shirt or badge.\n\nSee you soon!
URL:https://shrineparties.com/event/austin-april-munch-24/
LOCATION:The Hideout Pub\, 12164 TX-1 Loop\, Austin\, TX\, 78758\, United States
CATEGORIES:Austin
END:VEVENT
BEGIN:VEVENT
DTSTART;TZID=UTC:20240313T190000
DTEND;TZID=UTC:20240313T220000
DTSTAMP:20260423T213715
CREATED:20240202T214409Z
LAST-MODIFIED:20240202T214409Z
UID:10000029-1710356400-1710367200@shrineparties.com
SUMMARY:Austin March Munch
DESCRIPTION:If you are looking to meet folks\, discuss scenes\, or talk kink before Shrine in a casual setting\, then you should attend our munch! \nTypically the Wednesday before Shrine at the Hideout Pub. Valentines Day falls on the Wednesday before Shrine so we will be hosting February’s Munch two weeks before Shrine \nKnow before you go: \n\n21+\, tip your bartenders.\nKitchen open until midnight.\nStreetwear only\nThe group is on the back porch\, weather permitted. You can find hosts wearing a Shrine shirt or badge.\n\nSee you soon!
URL:https://shrineparties.com/event/austin-march-munch-24/
LOCATION:The Hideout Pub\, 12164 TX-1 Loop\, Austin\, TX\, 78758\, United States
CATEGORIES:Austin
END:VEVENT
BEGIN:VEVENT
DTSTART;TZID=UTC:20240207T190000
DTEND;TZID=UTC:20240207T220000
DTSTAMP:20260423T213715
CREATED:20240202T213826Z
LAST-MODIFIED:20240202T213826Z
UID:10000028-1707332400-1707343200@shrineparties.com
SUMMARY:Austin February Munch
DESCRIPTION:If you are looking to meet folks\, discuss scenes\, or talk kink before Shrine in a casual setting\, then you should attend our munch! \nTypically the Wednesday before Shrine at the Hideout Pub. Valentines Day falls on the Wednesday before Shrine so we will be hosting February’s Munch two weeks before Shrine \nKnow before you go: \n\n21+\, tip your bartenders.\nKitchen open until midnight.\nStreetwear only\nThe group is on the back porch\, weather permitted. You can find hosts wearing a Shrine shirt or badge.\n\nSee you soon!
URL:https://shrineparties.com/event/austin-february-munch/
LOCATION:The Hideout Pub\, 12164 TX-1 Loop\, Austin\, TX\, 78758\, United States
CATEGORIES:Austin
END:VEVENT
END:VCALENDAR