BEGIN:VCALENDAR
VERSION:2.0
PRODID:-//Shrine - ECPv6.15.11//NONSGML v1.0//EN
CALSCALE:GREGORIAN
METHOD:PUBLISH
X-ORIGINAL-URL:https://shrineparties.com
X-WR-CALDESC:Events for Shrine
REFRESH-INTERVAL;VALUE=DURATION:PT1H
X-Robots-Tag:noindex
X-PUBLISHED-TTL:PT1H
BEGIN:VTIMEZONE
TZID:America/Chicago
BEGIN:DAYLIGHT
TZOFFSETFROM:-0600
TZOFFSETTO:-0500
TZNAME:CDT
DTSTART:20250309T080000
END:DAYLIGHT
BEGIN:STANDARD
TZOFFSETFROM:-0500
TZOFFSETTO:-0600
TZNAME:CST
DTSTART:20251102T070000
END:STANDARD
BEGIN:DAYLIGHT
TZOFFSETFROM:-0600
TZOFFSETTO:-0500
TZNAME:CDT
DTSTART:20260308T080000
END:DAYLIGHT
BEGIN:STANDARD
TZOFFSETFROM:-0500
TZOFFSETTO:-0600
TZNAME:CST
DTSTART:20261101T070000
END:STANDARD
BEGIN:DAYLIGHT
TZOFFSETFROM:-0600
TZOFFSETTO:-0500
TZNAME:CDT
DTSTART:20270314T080000
END:DAYLIGHT
BEGIN:STANDARD
TZOFFSETFROM:-0500
TZOFFSETTO:-0600
TZNAME:CST
DTSTART:20271107T070000
END:STANDARD
END:VTIMEZONE
BEGIN:VEVENT
DTSTART;TZID=America/Chicago:20260520T190000
DTEND;TZID=America/Chicago:20260520T220000
DTSTAMP:20260423T175312
CREATED:20251021T170932Z
LAST-MODIFIED:20251117T212038Z
UID:10000101-1779303600-1779314400@shrineparties.com
SUMMARY:May Munch
DESCRIPTION:If you are looking to meet folks\, discuss scenes\, or talk kink before Shrine in a casual setting\, then you should attend our munch! Typically the Wednesday before Shrine at the Hideout Pub. Valentines Day falls on the Wednesday before Shrine so we will be hosting February’s Munch two weeks before Shrine Know before you go: \n\n21+\, tip your bartenders.\nKitchen open until midnight.\nStreetwear only\nThe group is on the back porch\, weather permitted. You can find hosts wearing a Shrine shirt or badge.\n\nSee you soon!
URL:https://shrineparties.com/event/austin-may-munch-2/
LOCATION:The Hideout Pub\, 12164 TX-1 Loop\, Austin\, TX\, 78758\, United States
CATEGORIES:Austin
END:VEVENT
BEGIN:VEVENT
DTSTART;TZID=America/Chicago:20260624T190000
DTEND;TZID=America/Chicago:20260624T220000
DTSTAMP:20260423T175312
CREATED:20251021T170932Z
LAST-MODIFIED:20260225T224632Z
UID:10000102-1782327600-1782338400@shrineparties.com
SUMMARY:June Munch
DESCRIPTION:If you are looking to meet folks\, discuss scenes\, or talk kink before Shrine in a casual setting\, then you should attend our munch! Typically the Wednesday before Shrine at the Hideout Pub. Valentines Day falls on the Wednesday before Shrine so we will be hosting February’s Munch two weeks before Shrine Know before you go: \n\n21+\, tip your bartenders.\nKitchen open until midnight.\nStreetwear only\nThe group is on the back porch\, weather permitted. You can find hosts wearing a Shrine shirt or badge.\n\nSee you soon!
URL:https://shrineparties.com/event/austin-june-munch-2/
LOCATION:The Hideout Pub\, 12164 TX-1 Loop\, Austin\, TX\, 78758\, United States
CATEGORIES:Austin
END:VEVENT
BEGIN:VEVENT
DTSTART;TZID=America/Chicago:20260722T190000
DTEND;TZID=America/Chicago:20260722T220000
DTSTAMP:20260423T175312
CREATED:20251021T170947Z
LAST-MODIFIED:20260225T224659Z
UID:10000103-1784746800-1784757600@shrineparties.com
SUMMARY:July Munch
DESCRIPTION:If you are looking to meet folks\, discuss scenes\, or talk kink before Shrine in a casual setting\, then you should attend our munch! Typically the Wednesday before Shrine at the Hideout Pub. Valentines Day falls on the Wednesday before Shrine so we will be hosting February’s Munch two weeks before Shrine Know before you go: \n\n21+\, tip your bartenders.\nKitchen open until midnight.\nStreetwear only\nThe group is on the back porch\, weather permitted. You can find hosts wearing a Shrine shirt or badge.\n\nSee you soon!
URL:https://shrineparties.com/event/austin-july-munch-2/
LOCATION:The Hideout Pub\, 12164 TX-1 Loop\, Austin\, TX\, 78758\, United States
CATEGORIES:Austin
END:VEVENT
BEGIN:VEVENT
DTSTART;TZID=America/Chicago:20260812T190000
DTEND;TZID=America/Chicago:20260812T220000
DTSTAMP:20260423T175312
CREATED:20251021T170947Z
LAST-MODIFIED:20260225T224826Z
UID:10000104-1786561200-1786572000@shrineparties.com
SUMMARY:August Munch
DESCRIPTION:If you are looking to meet folks\, discuss scenes\, or talk kink before Shrine in a casual setting\, then you should attend our munch! Typically the Wednesday before Shrine at the Hideout Pub. Valentines Day falls on the Wednesday before Shrine so we will be hosting February’s Munch two weeks before Shrine Know before you go: \n\n21+\, tip your bartenders.\nKitchen open until midnight.\nStreetwear only\nThe group is on the back porch\, weather permitted. You can find hosts wearing a Shrine shirt or badge.\n\nSee you soon!
URL:https://shrineparties.com/event/austin-august-munch-2/
LOCATION:The Hideout Pub\, 12164 TX-1 Loop\, Austin\, TX\, 78758\, United States
CATEGORIES:Austin
END:VEVENT
BEGIN:VEVENT
DTSTART;TZID=America/Chicago:20260902T190000
DTEND;TZID=America/Chicago:20260902T220000
DTSTAMP:20260423T175312
CREATED:20251021T170947Z
LAST-MODIFIED:20251110T175235Z
UID:10000105-1788375600-1788386400@shrineparties.com
SUMMARY:September Munch
DESCRIPTION:If you are looking to meet folks\, discuss scenes\, or talk kink before Shrine in a casual setting\, then you should attend our munch! Typically the Wednesday before Shrine at the Hideout Pub. Valentines Day falls on the Wednesday before Shrine so we will be hosting February’s Munch two weeks before Shrine Know before you go: \n\n21+\, tip your bartenders.\nKitchen open until midnight.\nStreetwear only\nThe group is on the back porch\, weather permitted. You can find hosts wearing a Shrine shirt or badge.\n\nSee you soon!
URL:https://shrineparties.com/event/austin-september-munch-2/
LOCATION:The Hideout Pub\, 12164 TX-1 Loop\, Austin\, TX\, 78758\, United States
CATEGORIES:Austin
END:VEVENT
BEGIN:VEVENT
DTSTART;TZID=America/Chicago:20261014T190000
DTEND;TZID=America/Chicago:20261014T220000
DTSTAMP:20260423T175312
CREATED:20251021T170947Z
LAST-MODIFIED:20251110T175235Z
UID:10000106-1792004400-1792015200@shrineparties.com
SUMMARY:October Munch
DESCRIPTION:If you are looking to meet folks\, discuss scenes\, or talk kink before Shrine in a casual setting\, then you should attend our munch! Typically the Wednesday before Shrine at the Hideout Pub. Valentines Day falls on the Wednesday before Shrine so we will be hosting February’s Munch two weeks before Shrine Know before you go: \n\n21+\, tip your bartenders.\nKitchen open until midnight.\nStreetwear only\nThe group is on the back porch\, weather permitted. You can find hosts wearing a Shrine shirt or badge.\n\nSee you soon!
URL:https://shrineparties.com/event/austin-october-munch-2/
LOCATION:The Hideout Pub\, 12164 TX-1 Loop\, Austin\, TX\, 78758\, United States
CATEGORIES:Austin
END:VEVENT
BEGIN:VEVENT
DTSTART;TZID=America/Chicago:20261111T190000
DTEND;TZID=America/Chicago:20261111T220000
DTSTAMP:20260423T175312
CREATED:20251021T170947Z
LAST-MODIFIED:20251110T175235Z
UID:10000107-1794423600-1794434400@shrineparties.com
SUMMARY:November Munch
DESCRIPTION:If you are looking to meet folks\, discuss scenes\, or talk kink before Shrine in a casual setting\, then you should attend our munch! Typically the Wednesday before Shrine at the Hideout Pub. Valentines Day falls on the Wednesday before Shrine so we will be hosting February’s Munch two weeks before Shrine Know before you go: \n\n21+\, tip your bartenders.\nKitchen open until midnight.\nStreetwear only\nThe group is on the back porch\, weather permitted. You can find hosts wearing a Shrine shirt or badge.\n\nSee you soon!
URL:https://shrineparties.com/event/austin-november-munch-2/
LOCATION:The Hideout Pub\, 12164 TX-1 Loop\, Austin\, TX\, 78758\, United States
CATEGORIES:Austin
END:VEVENT
BEGIN:VEVENT
DTSTART;TZID=America/Chicago:20261209T190000
DTEND;TZID=America/Chicago:20261209T220000
DTSTAMP:20260423T175312
CREATED:20251021T171002Z
LAST-MODIFIED:20251117T212427Z
UID:10000108-1796842800-1796853600@shrineparties.com
SUMMARY:December Munch
DESCRIPTION:If you are looking to meet folks\, discuss scenes\, or talk kink before Shrine in a casual setting\, then you should attend our munch! Typically the Wednesday before Shrine at the Hideout Pub. Valentines Day falls on the Wednesday before Shrine so we will be hosting February’s Munch two weeks before Shrine Know before you go: \n\n21+\, tip your bartenders.\nKitchen open until midnight.\nStreetwear only\nThe group is on the back porch\, weather permitted. You can find hosts wearing a Shrine shirt or badge.\n\nSee you soon!
URL:https://shrineparties.com/event/austin-december-munch-2/
LOCATION:The Hideout Pub\, 12164 TX-1 Loop\, Austin\, TX\, 78758\, United States
CATEGORIES:Austin
END:VEVENT
END:VCALENDAR