BEGIN:VCALENDAR
VERSION:2.0
PRODID:-//Shrine - ECPv6.15.11//NONSGML v1.0//EN
CALSCALE:GREGORIAN
METHOD:PUBLISH
X-ORIGINAL-URL:https://shrineparties.com
X-WR-CALDESC:Events for Shrine
REFRESH-INTERVAL;VALUE=DURATION:PT1H
X-Robots-Tag:noindex
X-PUBLISHED-TTL:PT1H
BEGIN:VTIMEZONE
TZID:America/Chicago
BEGIN:DAYLIGHT
TZOFFSETFROM:-0600
TZOFFSETTO:-0500
TZNAME:CDT
DTSTART:20250309T080000
END:DAYLIGHT
BEGIN:STANDARD
TZOFFSETFROM:-0500
TZOFFSETTO:-0600
TZNAME:CST
DTSTART:20251102T070000
END:STANDARD
BEGIN:DAYLIGHT
TZOFFSETFROM:-0600
TZOFFSETTO:-0500
TZNAME:CDT
DTSTART:20260308T080000
END:DAYLIGHT
BEGIN:STANDARD
TZOFFSETFROM:-0500
TZOFFSETTO:-0600
TZNAME:CST
DTSTART:20261101T070000
END:STANDARD
BEGIN:DAYLIGHT
TZOFFSETFROM:-0600
TZOFFSETTO:-0500
TZNAME:CDT
DTSTART:20270314T080000
END:DAYLIGHT
BEGIN:STANDARD
TZOFFSETFROM:-0500
TZOFFSETTO:-0600
TZNAME:CST
DTSTART:20271107T070000
END:STANDARD
END:VTIMEZONE
BEGIN:VEVENT
DTSTART;TZID=America/Chicago:20260426T183000
DTEND;TZID=America/Chicago:20260427T010000
DTSTAMP:20260423T211727
CREATED:20251021T170914Z
LAST-MODIFIED:20260211T145920Z
UID:10000088-1777228200-1777251600@shrineparties.com
SUMMARY:April Shrine
DESCRIPTION:Entry Rules \n\nValid 18+ ID.\n$15 cover for each person. This is a temporary Shrine event-only membership and entry.\nYou must agree to the waivers and disclaimers of Shrine’s BDSM\, Fetish\, and Lifestyle Event.\nNO alcohol or drug consumption is allowed. This permits a safe play environment.\nNO cameras or phones are allowed inside the event. Designated phone areas are the lobby\, porch\, or outside the venue. You will be asked to put away your device or go outside.\nStreetwear to the door and your choice on the inside. 😉\nDoor check-in closes an hour prior to event closing\n\nHosted at colette Austin\, this club offers 9\,000 sq ft of event space with ten beds\, various BDSM and Fetish equipment\, one hard point next to a bed\, two portable rigs on an upper stage platform\, mats for primal and rough body play\, allocated spaces for fire play\, whips/long distance impact\, and blood/needle play\, and a large social area!
URL:https://shrineparties.com/event/austin-april-shrine-3/
LOCATION:colette Austin\, 13800 Dragline Dr\, Austin\, Texas\, Entry Rules Valid 18+ ID. $15 cover for each person. This is a temporary Shrine event-only membership and entry. You must agree to the waivers and disclaimers of Shrine's BDSM\, Fetish\, and Lifestyle Event. NO alcohol or drug consumption is allowed. This permits a safe play environment. NO cameras or phones are allowed inside the event. Designated phone areas are the lobby\, porch\, or outside the venue. You will be asked to put away your device or go outside. Streetwear to the door and your choice on the inside. ;) Hosted at colette Austin\, this club offers 9\,000 sq ft of event space with ten beds\, various BDSM and Fetish equipment\, one hard point next to a bed\, two portable rigs on an upper stage platform\, mats for primal and rough body play\, allocated spaces for fire play\, whips/long distance impact\, and blood/needle play\, and a large social area!
CATEGORIES:Austin
END:VEVENT
BEGIN:VEVENT
DTSTART;TZID=America/Chicago:20260524T183000
DTEND;TZID=America/Chicago:20260525T020000
DTSTAMP:20260423T211727
CREATED:20251021T170915Z
LAST-MODIFIED:20260211T145931Z
UID:10000089-1779647400-1779674400@shrineparties.com
SUMMARY:May Shrine
DESCRIPTION:Entry Rules \n\nValid 18+ ID.\n$15 cover for each person. This is a temporary Shrine event-only membership and entry.\nYou must agree to the waivers and disclaimers of Shrine’s BDSM\, Fetish\, and Lifestyle Event.\nNO alcohol or drug consumption is allowed. This permits a safe play environment.\nNO cameras or phones are allowed inside the event. Designated phone areas are the lobby\, porch\, or outside the venue. You will be asked to put away your device or go outside.\nStreetwear to the door and your choice on the inside. 😉\nDoor check-in closes an hour prior to event closing\n\nHosted at colette Austin\, this club offers 9\,000 sq ft of event space with ten beds\, various BDSM and Fetish equipment\, one hard point next to a bed\, two portable rigs on an upper stage platform\, mats for primal and rough body play\, allocated spaces for fire play\, whips/long distance impact\, and blood/needle play\, and a large social area!
URL:https://shrineparties.com/event/austin-may-shrine-3/
LOCATION:colette Austin\, 13800 Dragline Dr\, Austin\, Texas\, Entry Rules Valid 18+ ID. $15 cover for each person. This is a temporary Shrine event-only membership and entry. You must agree to the waivers and disclaimers of Shrine's BDSM\, Fetish\, and Lifestyle Event. NO alcohol or drug consumption is allowed. This permits a safe play environment. NO cameras or phones are allowed inside the event. Designated phone areas are the lobby\, porch\, or outside the venue. You will be asked to put away your device or go outside. Streetwear to the door and your choice on the inside. ;) Hosted at colette Austin\, this club offers 9\,000 sq ft of event space with ten beds\, various BDSM and Fetish equipment\, one hard point next to a bed\, two portable rigs on an upper stage platform\, mats for primal and rough body play\, allocated spaces for fire play\, whips/long distance impact\, and blood/needle play\, and a large social area!
CATEGORIES:Austin
END:VEVENT
BEGIN:VEVENT
DTSTART;TZID=America/Chicago:20260628T183000
DTEND;TZID=America/Chicago:20260629T010000
DTSTAMP:20260423T211727
CREATED:20251021T170915Z
LAST-MODIFIED:20260225T224547Z
UID:10000090-1782671400-1782694800@shrineparties.com
SUMMARY:June Shrine
DESCRIPTION:Entry Rules \n\nValid 18+ ID.\n$15 cover for each person. This is a temporary Shrine event-only membership and entry.\nYou must agree to the waivers and disclaimers of Shrine’s BDSM\, Fetish\, and Lifestyle Event.\nNO alcohol or drug consumption is allowed. This permits a safe play environment.\nNO cameras or phones are allowed inside the event. Designated phone areas are the lobby\, porch\, or outside the venue. You will be asked to put away your device or go outside.\nStreetwear to the door and your choice on the inside. 😉\nDoor check-in closes an hour prior to event closing\n\nHosted at colette Austin\, this club offers 9\,000 sq ft of event space with ten beds\, various BDSM and Fetish equipment\, one hard point next to a bed\, two portable rigs on an upper stage platform\, mats for primal and rough body play\, allocated spaces for fire play\, whips/long distance impact\, and blood/needle play\, and a large social area!
URL:https://shrineparties.com/event/austin-june-shrine-2/
LOCATION:colette Austin\, 13800 Dragline Dr\, Austin\, Texas\, Entry Rules Valid 18+ ID. $15 cover for each person. This is a temporary Shrine event-only membership and entry. You must agree to the waivers and disclaimers of Shrine's BDSM\, Fetish\, and Lifestyle Event. NO alcohol or drug consumption is allowed. This permits a safe play environment. NO cameras or phones are allowed inside the event. Designated phone areas are the lobby\, porch\, or outside the venue. You will be asked to put away your device or go outside. Streetwear to the door and your choice on the inside. ;) Hosted at colette Austin\, this club offers 9\,000 sq ft of event space with ten beds\, various BDSM and Fetish equipment\, one hard point next to a bed\, two portable rigs on an upper stage platform\, mats for primal and rough body play\, allocated spaces for fire play\, whips/long distance impact\, and blood/needle play\, and a large social area!
CATEGORIES:Austin
END:VEVENT
BEGIN:VEVENT
DTSTART;TZID=America/Chicago:20260726T183000
DTEND;TZID=America/Chicago:20260727T010000
DTSTAMP:20260423T211727
CREATED:20251021T170915Z
LAST-MODIFIED:20260225T224649Z
UID:10000091-1785090600-1785114000@shrineparties.com
SUMMARY:July Shrine
DESCRIPTION:Entry Rules \n\nValid 18+ ID.\n$15 cover for each person. This is a temporary Shrine event-only membership and entry.\nYou must agree to the waivers and disclaimers of Shrine’s BDSM\, Fetish\, and Lifestyle Event.\nNO alcohol or drug consumption is allowed. This permits a safe play environment.\nNO cameras or phones are allowed inside the event. Designated phone areas are the lobby\, porch\, or outside the venue. You will be asked to put away your device or go outside.\nStreetwear to the door and your choice on the inside. 😉\nDoor check-in closes an hour prior to event closing\n\nHosted at colette Austin\, this club offers 9\,000 sq ft of event space with ten beds\, various BDSM and Fetish equipment\, one hard point next to a bed\, two portable rigs on an upper stage platform\, mats for primal and rough body play\, allocated spaces for fire play\, whips/long distance impact\, and blood/needle play\, and a large social area!
URL:https://shrineparties.com/event/austin-july-shrine-2/
LOCATION:colette Austin\, 13800 Dragline Dr\, Austin\, Texas\, Entry Rules Valid 18+ ID. $15 cover for each person. This is a temporary Shrine event-only membership and entry. You must agree to the waivers and disclaimers of Shrine's BDSM\, Fetish\, and Lifestyle Event. NO alcohol or drug consumption is allowed. This permits a safe play environment. NO cameras or phones are allowed inside the event. Designated phone areas are the lobby\, porch\, or outside the venue. You will be asked to put away your device or go outside. Streetwear to the door and your choice on the inside. ;) Hosted at colette Austin\, this club offers 9\,000 sq ft of event space with ten beds\, various BDSM and Fetish equipment\, one hard point next to a bed\, two portable rigs on an upper stage platform\, mats for primal and rough body play\, allocated spaces for fire play\, whips/long distance impact\, and blood/needle play\, and a large social area!
CATEGORIES:Austin
END:VEVENT
BEGIN:VEVENT
DTSTART;TZID=America/Chicago:20260816T183000
DTEND;TZID=America/Chicago:20260817T010000
DTSTAMP:20260423T211727
CREATED:20251021T170915Z
LAST-MODIFIED:20260225T224817Z
UID:10000092-1786905000-1786928400@shrineparties.com
SUMMARY:August Shrine
DESCRIPTION:Entry Rules \n\nValid 18+ ID.\n$15 cover for each person. This is a temporary Shrine event-only membership and entry.\nYou must agree to the waivers and disclaimers of Shrine’s BDSM\, Fetish\, and Lifestyle Event.\nNO alcohol or drug consumption is allowed. This permits a safe play environment.\nNO cameras or phones are allowed inside the event. Designated phone areas are the lobby\, porch\, or outside the venue. You will be asked to put away your device or go outside.\nStreetwear to the door and your choice on the inside. 😉\nDoor check-in closes an hour prior to event closing\n\nHosted at colette Austin\, this club offers 9\,000 sq ft of event space with ten beds\, various BDSM and Fetish equipment\, one hard point next to a bed\, two portable rigs on an upper stage platform\, mats for primal and rough body play\, allocated spaces for fire play\, whips/long distance impact\, and blood/needle play\, and a large social area!
URL:https://shrineparties.com/event/austin-august-shrine-2/
LOCATION:colette Austin\, 13800 Dragline Dr\, Austin\, Texas\, Entry Rules Valid 18+ ID. $15 cover for each person. This is a temporary Shrine event-only membership and entry. You must agree to the waivers and disclaimers of Shrine's BDSM\, Fetish\, and Lifestyle Event. NO alcohol or drug consumption is allowed. This permits a safe play environment. NO cameras or phones are allowed inside the event. Designated phone areas are the lobby\, porch\, or outside the venue. You will be asked to put away your device or go outside. Streetwear to the door and your choice on the inside. ;) Hosted at colette Austin\, this club offers 9\,000 sq ft of event space with ten beds\, various BDSM and Fetish equipment\, one hard point next to a bed\, two portable rigs on an upper stage platform\, mats for primal and rough body play\, allocated spaces for fire play\, whips/long distance impact\, and blood/needle play\, and a large social area!
CATEGORIES:Austin
END:VEVENT
BEGIN:VEVENT
DTSTART;TZID=America/Chicago:20260906T183000
DTEND;TZID=America/Chicago:20260907T020000
DTSTAMP:20260423T211727
CREATED:20251021T170916Z
LAST-MODIFIED:20260211T150107Z
UID:10000093-1788719400-1788746400@shrineparties.com
SUMMARY:September Shrine
DESCRIPTION:Entry Rules \n\nValid 18+ ID.\n$15 cover for each person. This is a temporary Shrine event-only membership and entry.\nYou must agree to the waivers and disclaimers of Shrine’s BDSM\, Fetish\, and Lifestyle Event.\nNO alcohol or drug consumption is allowed. This permits a safe play environment.\nNO cameras or phones are allowed inside the event. Designated phone areas are the lobby\, porch\, or outside the venue. You will be asked to put away your device or go outside.\nStreetwear to the door and your choice on the inside. 😉\nDoor check-in closes an hour prior to event closing\n\nHosted at colette Austin\, this club offers 9\,000 sq ft of event space with ten beds\, various BDSM and Fetish equipment\, one hard point next to a bed\, two portable rigs on an upper stage platform\, mats for primal and rough body play\, allocated spaces for fire play\, whips/long distance impact\, and blood/needle play\, and a large social area!
URL:https://shrineparties.com/event/austin-september-shrine-2/
LOCATION:colette Austin\, 13800 Dragline Dr\, Austin\, Texas\, Entry Rules Valid 18+ ID. $15 cover for each person. This is a temporary Shrine event-only membership and entry. You must agree to the waivers and disclaimers of Shrine's BDSM\, Fetish\, and Lifestyle Event. NO alcohol or drug consumption is allowed. This permits a safe play environment. NO cameras or phones are allowed inside the event. Designated phone areas are the lobby\, porch\, or outside the venue. You will be asked to put away your device or go outside. Streetwear to the door and your choice on the inside. ;) Hosted at colette Austin\, this club offers 9\,000 sq ft of event space with ten beds\, various BDSM and Fetish equipment\, one hard point next to a bed\, two portable rigs on an upper stage platform\, mats for primal and rough body play\, allocated spaces for fire play\, whips/long distance impact\, and blood/needle play\, and a large social area!
CATEGORIES:Austin
END:VEVENT
BEGIN:VEVENT
DTSTART;TZID=America/Chicago:20261018T183000
DTEND;TZID=America/Chicago:20261019T010000
DTSTAMP:20260423T211727
CREATED:20251021T170916Z
LAST-MODIFIED:20260211T150134Z
UID:10000094-1792348200-1792371600@shrineparties.com
SUMMARY:October Shrine
DESCRIPTION:Entry Rules \n\nValid 18+ ID.\n$15 cover for each person. This is a temporary Shrine event-only membership and entry.\nYou must agree to the waivers and disclaimers of Shrine’s BDSM\, Fetish\, and Lifestyle Event.\nNO alcohol or drug consumption is allowed. This permits a safe play environment.\nNO cameras or phones are allowed inside the event. Designated phone areas are the lobby\, porch\, or outside the venue. You will be asked to put away your device or go outside.\nStreetwear to the door and your choice on the inside. 😉\nDoor check-in closes an hour prior to event closing\n\nHosted at colette Austin\, this club offers 9\,000 sq ft of event space with ten beds\, various BDSM and Fetish equipment\, one hard point next to a bed\, two portable rigs on an upper stage platform\, mats for primal and rough body play\, allocated spaces for fire play\, whips/long distance impact\, and blood/needle play\, and a large social area!
URL:https://shrineparties.com/event/austin-october-shrine-2/
LOCATION:colette Austin\, 13800 Dragline Dr\, Austin\, Texas\, Entry Rules Valid 18+ ID. $15 cover for each person. This is a temporary Shrine event-only membership and entry. You must agree to the waivers and disclaimers of Shrine's BDSM\, Fetish\, and Lifestyle Event. NO alcohol or drug consumption is allowed. This permits a safe play environment. NO cameras or phones are allowed inside the event. Designated phone areas are the lobby\, porch\, or outside the venue. You will be asked to put away your device or go outside. Streetwear to the door and your choice on the inside. ;) Hosted at colette Austin\, this club offers 9\,000 sq ft of event space with ten beds\, various BDSM and Fetish equipment\, one hard point next to a bed\, two portable rigs on an upper stage platform\, mats for primal and rough body play\, allocated spaces for fire play\, whips/long distance impact\, and blood/needle play\, and a large social area!
CATEGORIES:Austin
END:VEVENT
BEGIN:VEVENT
DTSTART;TZID=America/Chicago:20261115T183000
DTEND;TZID=America/Chicago:20261116T010000
DTSTAMP:20260423T211727
CREATED:20251021T170916Z
LAST-MODIFIED:20260211T150150Z
UID:10000095-1794767400-1794790800@shrineparties.com
SUMMARY:November Shrine
DESCRIPTION:Entry Rules \n\nValid 18+ ID.\n$15 cover for each person. This is a temporary Shrine event-only membership and entry.\nYou must agree to the waivers and disclaimers of Shrine’s BDSM\, Fetish\, and Lifestyle Event.\nNO alcohol or drug consumption is allowed. This permits a safe play environment.\nNO cameras or phones are allowed inside the event. Designated phone areas are the lobby\, porch\, or outside the venue. You will be asked to put away your device or go outside.\nStreetwear to the door and your choice on the inside. 😉\nDoor check-in closes an hour prior to event closing\n\nHosted at colette Austin\, this club offers 9\,000 sq ft of event space with ten beds\, various BDSM and Fetish equipment\, one hard point next to a bed\, two portable rigs on an upper stage platform\, mats for primal and rough body play\, allocated spaces for fire play\, whips/long distance impact\, and blood/needle play\, and a large social area!
URL:https://shrineparties.com/event/austin-november-shrine-2/
LOCATION:colette Austin\, 13800 Dragline Dr\, Austin\, Texas\, Entry Rules Valid 18+ ID. $15 cover for each person. This is a temporary Shrine event-only membership and entry. You must agree to the waivers and disclaimers of Shrine's BDSM\, Fetish\, and Lifestyle Event. NO alcohol or drug consumption is allowed. This permits a safe play environment. NO cameras or phones are allowed inside the event. Designated phone areas are the lobby\, porch\, or outside the venue. You will be asked to put away your device or go outside. Streetwear to the door and your choice on the inside. ;) Hosted at colette Austin\, this club offers 9\,000 sq ft of event space with ten beds\, various BDSM and Fetish equipment\, one hard point next to a bed\, two portable rigs on an upper stage platform\, mats for primal and rough body play\, allocated spaces for fire play\, whips/long distance impact\, and blood/needle play\, and a large social area!
CATEGORIES:Austin
END:VEVENT
BEGIN:VEVENT
DTSTART;TZID=America/Chicago:20261213T183000
DTEND;TZID=America/Chicago:20261214T010000
DTSTAMP:20260423T211727
CREATED:20251021T170916Z
LAST-MODIFIED:20260211T150202Z
UID:10000096-1797186600-1797210000@shrineparties.com
SUMMARY:December Shrine
DESCRIPTION:Entry Rules \n\nValid 18+ ID.\n$15 cover for each person. This is a temporary Shrine event-only membership and entry.\nYou must agree to the waivers and disclaimers of Shrine’s BDSM\, Fetish\, and Lifestyle Event.\nNO alcohol or drug consumption is allowed. This permits a safe play environment.\nNO cameras or phones are allowed inside the event. Designated phone areas are the lobby\, porch\, or outside the venue. You will be asked to put away your device or go outside.\nStreetwear to the door and your choice on the inside. 😉\nDoor check-in closes an hour prior to event closing\n\nHosted at colette Austin\, this club offers 9\,000 sq ft of event space with ten beds\, various BDSM and Fetish equipment\, one hard point next to a bed\, two portable rigs on an upper stage platform\, mats for primal and rough body play\, allocated spaces for fire play\, whips/long distance impact\, and blood/needle play\, and a large social area!
URL:https://shrineparties.com/event/austin-december-shrine-2/
LOCATION:colette Austin\, 13800 Dragline Dr\, Austin\, Texas\, Entry Rules Valid 18+ ID. $15 cover for each person. This is a temporary Shrine event-only membership and entry. You must agree to the waivers and disclaimers of Shrine's BDSM\, Fetish\, and Lifestyle Event. NO alcohol or drug consumption is allowed. This permits a safe play environment. NO cameras or phones are allowed inside the event. Designated phone areas are the lobby\, porch\, or outside the venue. You will be asked to put away your device or go outside. Streetwear to the door and your choice on the inside. ;) Hosted at colette Austin\, this club offers 9\,000 sq ft of event space with ten beds\, various BDSM and Fetish equipment\, one hard point next to a bed\, two portable rigs on an upper stage platform\, mats for primal and rough body play\, allocated spaces for fire play\, whips/long distance impact\, and blood/needle play\, and a large social area!
CATEGORIES:Austin
END:VEVENT
END:VCALENDAR