BEGIN:VCALENDAR
VERSION:2.0
PRODID:-//Shrine - ECPv6.15.11//NONSGML v1.0//EN
CALSCALE:GREGORIAN
METHOD:PUBLISH
X-WR-CALNAME:Shrine
X-ORIGINAL-URL:https://shrineparties.com
X-WR-CALDESC:Events for Shrine
REFRESH-INTERVAL;VALUE=DURATION:PT1H
X-Robots-Tag:noindex
X-PUBLISHED-TTL:PT1H
BEGIN:VTIMEZONE
TZID:America/Chicago
BEGIN:DAYLIGHT
TZOFFSETFROM:-0600
TZOFFSETTO:-0500
TZNAME:CDT
DTSTART:20250309T080000
END:DAYLIGHT
BEGIN:STANDARD
TZOFFSETFROM:-0500
TZOFFSETTO:-0600
TZNAME:CST
DTSTART:20251102T070000
END:STANDARD
BEGIN:DAYLIGHT
TZOFFSETFROM:-0600
TZOFFSETTO:-0500
TZNAME:CDT
DTSTART:20260308T080000
END:DAYLIGHT
BEGIN:STANDARD
TZOFFSETFROM:-0500
TZOFFSETTO:-0600
TZNAME:CST
DTSTART:20261101T070000
END:STANDARD
BEGIN:DAYLIGHT
TZOFFSETFROM:-0600
TZOFFSETTO:-0500
TZNAME:CDT
DTSTART:20270314T080000
END:DAYLIGHT
BEGIN:STANDARD
TZOFFSETFROM:-0500
TZOFFSETTO:-0600
TZNAME:CST
DTSTART:20271107T070000
END:STANDARD
END:VTIMEZONE
BEGIN:VEVENT
DTSTART;TZID=America/Chicago:20260624T190000
DTEND;TZID=America/Chicago:20260624T220000
DTSTAMP:20260423T211804
CREATED:20251021T170932Z
LAST-MODIFIED:20260225T224632Z
UID:10000102-1782327600-1782338400@shrineparties.com
SUMMARY:June Munch
DESCRIPTION:If you are looking to meet folks\, discuss scenes\, or talk kink before Shrine in a casual setting\, then you should attend our munch! Typically the Wednesday before Shrine at the Hideout Pub. Valentines Day falls on the Wednesday before Shrine so we will be hosting February’s Munch two weeks before Shrine Know before you go: \n\n21+\, tip your bartenders.\nKitchen open until midnight.\nStreetwear only\nThe group is on the back porch\, weather permitted. You can find hosts wearing a Shrine shirt or badge.\n\nSee you soon!
URL:https://shrineparties.com/event/austin-june-munch-2/
LOCATION:The Hideout Pub\, 12164 TX-1 Loop\, Austin\, TX\, 78758\, United States
CATEGORIES:Austin
END:VEVENT
END:VCALENDAR