BEGIN:VCALENDAR
VERSION:2.0
PRODID:-//Shrine - ECPv6.15.11//NONSGML v1.0//EN
CALSCALE:GREGORIAN
METHOD:PUBLISH
X-WR-CALNAME:Shrine
X-ORIGINAL-URL:https://shrineparties.com
X-WR-CALDESC:Events for Shrine
REFRESH-INTERVAL;VALUE=DURATION:PT1H
X-Robots-Tag:noindex
X-PUBLISHED-TTL:PT1H
BEGIN:VTIMEZONE
TZID:UTC
BEGIN:STANDARD
TZOFFSETFROM:+0000
TZOFFSETTO:+0000
TZNAME:UTC
DTSTART:20250101T000000
END:STANDARD
END:VTIMEZONE
BEGIN:VTIMEZONE
TZID:America/Chicago
BEGIN:DAYLIGHT
TZOFFSETFROM:-0600
TZOFFSETTO:-0500
TZNAME:CDT
DTSTART:20250309T080000
END:DAYLIGHT
BEGIN:STANDARD
TZOFFSETFROM:-0500
TZOFFSETTO:-0600
TZNAME:CST
DTSTART:20251102T070000
END:STANDARD
BEGIN:DAYLIGHT
TZOFFSETFROM:-0600
TZOFFSETTO:-0500
TZNAME:CDT
DTSTART:20260308T080000
END:DAYLIGHT
BEGIN:STANDARD
TZOFFSETFROM:-0500
TZOFFSETTO:-0600
TZNAME:CST
DTSTART:20261101T070000
END:STANDARD
BEGIN:DAYLIGHT
TZOFFSETFROM:-0600
TZOFFSETTO:-0500
TZNAME:CDT
DTSTART:20270314T080000
END:DAYLIGHT
BEGIN:STANDARD
TZOFFSETFROM:-0500
TZOFFSETTO:-0600
TZNAME:CST
DTSTART:20271107T070000
END:STANDARD
END:VTIMEZONE
BEGIN:VEVENT
DTSTART;TZID=UTC:20260207T120000
DTEND;TZID=UTC:20260207T180000
DTSTAMP:20260423T213659
CREATED:20251205T190541Z
LAST-MODIFIED:20251205T203233Z
UID:10000109-1770465600-1770487200@shrineparties.com
SUMMARY:DM Class
DESCRIPTION:This is a great opportunity to support your Community! \nShrine and other events are run on volunteers and our DMs are essential – helping keep the play fun\, safe and uninterrupted! This DM class will give you the knowledge and skills to DM at any community event. We recommend this class for new and veteran kinksters\, regardless if you are interested in DMing consistently. The feedback we get from the class attendees is they came away with a better understanding of the whys and hows of community play spaces and has changed their perspective on kink in general! Master Wolf has been teaching DM classes for many years and offers these classes on a donation basis as a service to us. This class is required to DM for Shrine. If you have already taken a DM class and want a refresher you are welcome to attend! \nAll DMs are required to have current CPR/AED certification. If you need to obtain your certification\, you may take your CPR class through http://www.cpr-resources.com/ or you can try http://austintxcprclasses.com/ . Both programs have classes throughout the week and on weekends. We would prefer you take an in person class receive your initial CPR certification for the hands on training\, however we accept online renewals. When you have completed your class\, please email a copy of your card to atxvolunteers@shrineparties.com. You can still attend class if you don’t get your CPR/AED certification\, however you will need to complete your CPR/AED certification before you can get your DM card and be allowed to DM at Shrine or Team Dungeon events. \nInstructor: Master Wolf / Team Dungeon \nDate: Saturday February 7th 2026 12-6pm (Doors open at 11:30am) \nLocation: Vivent Health – 104 E. Highland Mall Blvd Suite 100 Austin\, TX 78752
URL:https://shrineparties.com/event/dm-class-feb26/
LOCATION:Vivent Health\, 104 E. Highland Mall Blvd STE 100\, Austin\, TX\, 78752\, United States
CATEGORIES:Austin
END:VEVENT
BEGIN:VEVENT
DTSTART;TZID=America/Chicago:20260211T190000
DTEND;TZID=America/Chicago:20260211T220000
DTSTAMP:20260423T213659
CREATED:20251021T170932Z
LAST-MODIFIED:20260202T160026Z
UID:10000098-1770836400-1770847200@shrineparties.com
SUMMARY:February Munch
DESCRIPTION:If you are looking to meet folks\, discuss scenes\, or talk kink before Shrine in a casual setting\, then you should attend our munch! Typically the Wednesday before Shrine at the Hideout Pub. Know before you go: \n\n21+\, tip your bartenders.\nKitchen open until midnight.\nStreetwear only\nThe group is on the back porch\, weather permitted. You can find hosts wearing a Shrine shirt or badge.\n\nSee you soon!
URL:https://shrineparties.com/event/austin-february-munch-3/
LOCATION:The Hideout Pub\, 12164 TX-1 Loop\, Austin\, TX\, 78758\, United States
CATEGORIES:Austin
END:VEVENT
BEGIN:VEVENT
DTSTART;TZID=America/Chicago:20260215T183000
DTEND;TZID=America/Chicago:20260216T010000
DTSTAMP:20260423T213659
CREATED:20251021T171141Z
LAST-MODIFIED:20260211T145838Z
UID:10000086-1771180200-1771203600@shrineparties.com
SUMMARY:February Shrine
DESCRIPTION:Entry Rules \n\nValid 18+ ID.\n$15 cover for each person. This is a temporary Shrine event-only membership and entry.\nYou must agree to the waivers and disclaimers of Shrine’s BDSM\, Fetish\, and Lifestyle Event.\nNO alcohol or drug consumption is allowed. This permits a safe play environment.\nNO cameras or phones are allowed inside the event. Designated phone areas are the lobby\, porch\, or outside the venue. You will be asked to put away your device or go outside.\nStreetwear to the door and your choice on the inside. 😉\nDoor check-in closes an hour prior to event closing\n\nHosted at colette Austin\, this club offers 9\,000 sq ft of event space with ten beds\, various BDSM and Fetish equipment\, one hard point next to a bed\, two portable rigs on an upper stage platform\, mats for primal and rough body play\, allocated spaces for fire play\, whips/long distance impact\, and blood/needle play\, and a large social area!
URL:https://shrineparties.com/event/austin-february-shrine-3/
LOCATION:colette Austin\, 13800 Dragline Dr\, Austin\, Texas\, Entry Rules Valid 18+ ID. $15 cover for each person. This is a temporary Shrine event-only membership and entry. You must agree to the waivers and disclaimers of Shrine's BDSM\, Fetish\, and Lifestyle Event. NO alcohol or drug consumption is allowed. This permits a safe play environment. NO cameras or phones are allowed inside the event. Designated phone areas are the lobby\, porch\, or outside the venue. You will be asked to put away your device or go outside. Streetwear to the door and your choice on the inside. ;) Hosted at colette Austin\, this club offers 9\,000 sq ft of event space with ten beds\, various BDSM and Fetish equipment\, one hard point next to a bed\, two portable rigs on an upper stage platform\, mats for primal and rough body play\, allocated spaces for fire play\, whips/long distance impact\, and blood/needle play\, and a large social area!
CATEGORIES:Austin
END:VEVENT
END:VCALENDAR