BEGIN:VCALENDAR
VERSION:2.0
PRODID:-//Shrine - ECPv6.15.11//NONSGML v1.0//EN
CALSCALE:GREGORIAN
METHOD:PUBLISH
X-ORIGINAL-URL:https://shrineparties.com
X-WR-CALDESC:Events for Shrine
REFRESH-INTERVAL;VALUE=DURATION:PT1H
X-Robots-Tag:noindex
X-PUBLISHED-TTL:PT1H
BEGIN:VTIMEZONE
TZID:UTC
BEGIN:STANDARD
TZOFFSETFROM:+0000
TZOFFSETTO:+0000
TZNAME:UTC
DTSTART:20230101T000000
END:STANDARD
END:VTIMEZONE
BEGIN:VTIMEZONE
TZID:America/Chicago
BEGIN:DAYLIGHT
TZOFFSETFROM:-0600
TZOFFSETTO:-0500
TZNAME:CDT
DTSTART:20230312T080000
END:DAYLIGHT
BEGIN:STANDARD
TZOFFSETFROM:-0500
TZOFFSETTO:-0600
TZNAME:CST
DTSTART:20231105T070000
END:STANDARD
BEGIN:DAYLIGHT
TZOFFSETFROM:-0600
TZOFFSETTO:-0500
TZNAME:CDT
DTSTART:20240310T080000
END:DAYLIGHT
BEGIN:STANDARD
TZOFFSETFROM:-0500
TZOFFSETTO:-0600
TZNAME:CST
DTSTART:20241103T070000
END:STANDARD
BEGIN:DAYLIGHT
TZOFFSETFROM:-0600
TZOFFSETTO:-0500
TZNAME:CDT
DTSTART:20250309T080000
END:DAYLIGHT
BEGIN:STANDARD
TZOFFSETFROM:-0500
TZOFFSETTO:-0600
TZNAME:CST
DTSTART:20251102T070000
END:STANDARD
END:VTIMEZONE
BEGIN:VEVENT
DTSTART;TZID=UTC:20240710T190000
DTEND;TZID=UTC:20240710T220000
DTSTAMP:20260424T042338
CREATED:20240202T215020Z
LAST-MODIFIED:20240202T215020Z
UID:10000033-1720638000-1720648800@shrineparties.com
SUMMARY:Austin July Munch
DESCRIPTION:If you are looking to meet folks\, discuss scenes\, or talk kink before Shrine in a casual setting\, then you should attend our munch! \nTypically the Wednesday before Shrine at the Hideout Pub. Valentines Day falls on the Wednesday before Shrine so we will be hosting February’s Munch two weeks before Shrine \nKnow before you go: \n\n21+\, tip your bartenders.\nKitchen open until midnight.\nStreetwear only\nThe group is on the back porch\, weather permitted. You can find hosts wearing a Shrine shirt or badge.\n\nSee you soon!
URL:https://shrineparties.com/event/austin-july-munch-24/
LOCATION:The Hideout Pub\, 12164 TX-1 Loop\, Austin\, TX\, 78758\, United States
CATEGORIES:Austin
END:VEVENT
BEGIN:VEVENT
DTSTART;VALUE=DATE:20240627
DTEND;VALUE=DATE:20240701
DTSTAMP:20260424T042338
CREATED:20240209T065041Z
LAST-MODIFIED:20240209T065138Z
UID:10000040-1719446400-1719791999@shrineparties.com
SUMMARY:GWNN BASH 2024
DESCRIPTION:The Group With No Name (or GWNN-pronounced Gwen) is a Central Texas based pansexual\, social\, and common interest organization that serves as a gateway organization focusing on education\, advocacy\, acceptance\, and social interaction for the alternative sexuality and kink lifestyle. It is non-commercial\, not-for-profit\, and dues-free. It exists to provide a positive and dynamic environment for people to meet others with a similar social interest in bondage\, domination\, submission\, sadism\, masochism\, and other related topics. Toward that end\, GWNN attempts to foster community and encourage interaction through social events and functions.
URL:https://shrineparties.com/event/gwnn-bash-2024/
LOCATION:Texas
CATEGORIES:Austin
END:VEVENT
BEGIN:VEVENT
DTSTART;TZID=UTC:20240623T183000
DTEND;TZID=UTC:20240624T010000
DTSTAMP:20260424T042338
CREATED:20240202T181935Z
LAST-MODIFIED:20240604T004255Z
UID:10000014-1719167400-1719190800@shrineparties.com
SUMMARY:Austin June Shrine
DESCRIPTION:Entry Rules \n\nValid 18+ ID.\n$15 cover for each person. This is a temporary Shrine event-only membership and entry.\nYou must agree to the waivers and disclaimers of Shrine’s BDSM\, Fetish\, and Lifestyle Event.\nNO alcohol or drug consumption is allowed. This permits a safe play environment.\nNO cameras or phones are allowed inside the event. Designated phone areas are the lobby\, porch\, or outside the venue. You will be asked to put away your device or go outside.\nStreetwear to the door and your choice on the inside. 😉\n\nHosted at colette Austin\, this club offers 9\,000 sq ft of event space with ten beds\, various BDSM and Fetish equipment\, one hard point next to a bed\, two portable rigs on an upper stage platform\, mats for primal and rough body play\, allocated spaces for fire play\, whips/long distance impact\, and blood/needle play\, and a large social area!
URL:https://shrineparties.com/event/austin-june-shrine-24/
LOCATION:colette Austin\, 13800 Dragline Dr\, Austin\, Texas\, Entry Rules Valid 18+ ID. $15 cover for each person. This is a temporary Shrine event-only membership and entry. You must agree to the waivers and disclaimers of Shrine's BDSM\, Fetish\, and Lifestyle Event. NO alcohol or drug consumption is allowed. This permits a safe play environment. NO cameras or phones are allowed inside the event. Designated phone areas are the lobby\, porch\, or outside the venue. You will be asked to put away your device or go outside. Streetwear to the door and your choice on the inside. ;) Hosted at colette Austin\, this club offers 9\,000 sq ft of event space with ten beds\, various BDSM and Fetish equipment\, one hard point next to a bed\, two portable rigs on an upper stage platform\, mats for primal and rough body play\, allocated spaces for fire play\, whips/long distance impact\, and blood/needle play\, and a large social area!
CATEGORIES:Austin
END:VEVENT
BEGIN:VEVENT
DTSTART;TZID=UTC:20240619T190000
DTEND;TZID=UTC:20240619T220000
DTSTAMP:20260424T042338
CREATED:20240202T214930Z
LAST-MODIFIED:20240202T214930Z
UID:10000032-1718823600-1718834400@shrineparties.com
SUMMARY:Austin June Munch
DESCRIPTION:If you are looking to meet folks\, discuss scenes\, or talk kink before Shrine in a casual setting\, then you should attend our munch! \nTypically the Wednesday before Shrine at the Hideout Pub. Valentines Day falls on the Wednesday before Shrine so we will be hosting February’s Munch two weeks before Shrine \nKnow before you go: \n\n21+\, tip your bartenders.\nKitchen open until midnight.\nStreetwear only\nThe group is on the back porch\, weather permitted. You can find hosts wearing a Shrine shirt or badge.\n\nSee you soon!
URL:https://shrineparties.com/event/austin-june-munch-24/
LOCATION:The Hideout Pub\, 12164 TX-1 Loop\, Austin\, TX\, 78758\, United States
CATEGORIES:Austin
END:VEVENT
BEGIN:VEVENT
DTSTART;TZID=UTC:20240526T183000
DTEND;TZID=UTC:20240527T020000
DTSTAMP:20260424T042338
CREATED:20240116T195806Z
LAST-MODIFIED:20240122T211713Z
UID:10000010-1716748200-1716775200@shrineparties.com
SUMMARY:Austin May Shrine
DESCRIPTION:Entry Rules \n\nValid 18+ ID.\n$15 cover for each person. This is a temporary Shrine event-only membership and entry.\nYou must agree to the waivers and disclaimers of Shrine’s BDSM\, Fetish\, and Lifestyle Event.\nNO alcohol or drug consumption is allowed. This permits a safe play environment.\nNO cameras or phones are allowed inside the event. Designated phone areas are the lobby\, porch\, or outside the venue. You will be asked to put away your device or go outside.\nStreetwear to the door and your choice on the inside. 😉\n\nHosted at colette Austin\, this club offers 9\,000 sq ft of event space with ten beds\, various BDSM and Fetish equipment\, one hard point next to a bed\, two portable rigs on an upper stage platform\, mats for primal and rough body play\, allocated spaces for fire play\, whips/long distance impact\, and blood/needle play\, and a large social area!
URL:https://shrineparties.com/event/austin-may-shrine/
LOCATION:colette Austin\, 13800 Dragline Dr\, Austin\, Texas\, Entry Rules Valid 18+ ID. $15 cover for each person. This is a temporary Shrine event-only membership and entry. You must agree to the waivers and disclaimers of Shrine's BDSM\, Fetish\, and Lifestyle Event. NO alcohol or drug consumption is allowed. This permits a safe play environment. NO cameras or phones are allowed inside the event. Designated phone areas are the lobby\, porch\, or outside the venue. You will be asked to put away your device or go outside. Streetwear to the door and your choice on the inside. ;) Hosted at colette Austin\, this club offers 9\,000 sq ft of event space with ten beds\, various BDSM and Fetish equipment\, one hard point next to a bed\, two portable rigs on an upper stage platform\, mats for primal and rough body play\, allocated spaces for fire play\, whips/long distance impact\, and blood/needle play\, and a large social area!
CATEGORIES:Austin
END:VEVENT
BEGIN:VEVENT
DTSTART;TZID=UTC:20240522T190000
DTEND;TZID=UTC:20240522T220000
DTSTAMP:20260424T042338
CREATED:20240202T214726Z
LAST-MODIFIED:20240202T214856Z
UID:10000031-1716404400-1716415200@shrineparties.com
SUMMARY:Austin May Munch
DESCRIPTION:If you are looking to meet folks\, discuss scenes\, or talk kink before Shrine in a casual setting\, then you should attend our munch! \nTypically the Wednesday before Shrine at the Hideout Pub. Valentines Day falls on the Wednesday before Shrine so we will be hosting February’s Munch two weeks before Shrine \nKnow before you go: \n\n21+\, tip your bartenders.\nKitchen open until midnight.\nStreetwear only\nThe group is on the back porch\, weather permitted. You can find hosts wearing a Shrine shirt or badge.\n\nSee you soon!
URL:https://shrineparties.com/event/austin-may-munch-24/
LOCATION:The Hideout Pub\, 12164 TX-1 Loop\, Austin\, TX\, 78758\, United States
CATEGORIES:Austin
END:VEVENT
BEGIN:VEVENT
DTSTART;TZID=UTC:20240505T120000
DTEND;TZID=UTC:20240505T180000
DTSTAMP:20260424T042338
CREATED:20240326T033239Z
LAST-MODIFIED:20240402T154422Z
UID:10000044-1714910400-1714932000@shrineparties.com
SUMMARY:PaW DM Training
DESCRIPTION:PaW welcomes you to attend the May DM training! This course will allow you to become a certified DM (upon completion of course and proof of current and valid CPR/First Aid certification). This certification can be applied with many groups across Texas and beyond. To sign up please follow the link attached\, address will be provided after verification.
URL:https://shrineparties.com/event/dm-training-5-24/
LOCATION:Texas
CATEGORIES:Austin
END:VEVENT
BEGIN:VEVENT
DTSTART;TZID=UTC:20240428T183000
DTEND;TZID=UTC:20240429T010000
DTSTAMP:20260424T042338
CREATED:20240116T195714Z
LAST-MODIFIED:20240122T211822Z
UID:10000009-1714329000-1714352400@shrineparties.com
SUMMARY:Austin April Shrine
DESCRIPTION:Entry Rules \n\nValid 18+ ID.\n$15 cover for each person. This is a temporary Shrine event-only membership and entry.\nYou must agree to the waivers and disclaimers of Shrine’s BDSM\, Fetish\, and Lifestyle Event.\nNO alcohol or drug consumption is allowed. This permits a safe play environment.\nNO cameras or phones are allowed inside the event. Designated phone areas are the lobby\, porch\, or outside the venue. You will be asked to put away your device or go outside.\nStreetwear to the door and your choice on the inside. 😉\n\nHosted at colette Austin\, this club offers 9\,000 sq ft of event space with ten beds\, various BDSM and Fetish equipment\, one hard point next to a bed\, two portable rigs on an upper stage platform\, mats for primal and rough body play\, allocated spaces for fire play\, whips/long distance impact\, and blood/needle play\, and a large social area!
URL:https://shrineparties.com/event/austin-april-shrine/
LOCATION:colette Austin\, 13800 Dragline Dr\, Austin\, Texas\, Entry Rules Valid 18+ ID. $15 cover for each person. This is a temporary Shrine event-only membership and entry. You must agree to the waivers and disclaimers of Shrine's BDSM\, Fetish\, and Lifestyle Event. NO alcohol or drug consumption is allowed. This permits a safe play environment. NO cameras or phones are allowed inside the event. Designated phone areas are the lobby\, porch\, or outside the venue. You will be asked to put away your device or go outside. Streetwear to the door and your choice on the inside. ;) Hosted at colette Austin\, this club offers 9\,000 sq ft of event space with ten beds\, various BDSM and Fetish equipment\, one hard point next to a bed\, two portable rigs on an upper stage platform\, mats for primal and rough body play\, allocated spaces for fire play\, whips/long distance impact\, and blood/needle play\, and a large social area!
CATEGORIES:Austin
END:VEVENT
BEGIN:VEVENT
DTSTART;TZID=UTC:20240424T190000
DTEND;TZID=UTC:20240424T220000
DTSTAMP:20260424T042338
CREATED:20240202T214633Z
LAST-MODIFIED:20240202T214633Z
UID:10000030-1713985200-1713996000@shrineparties.com
SUMMARY:Austin April Munch
DESCRIPTION:If you are looking to meet folks\, discuss scenes\, or talk kink before Shrine in a casual setting\, then you should attend our munch! \nTypically the Wednesday before Shrine at the Hideout Pub. Valentines Day falls on the Wednesday before Shrine so we will be hosting February’s Munch two weeks before Shrine \nKnow before you go: \n\n21+\, tip your bartenders.\nKitchen open until midnight.\nStreetwear only\nThe group is on the back porch\, weather permitted. You can find hosts wearing a Shrine shirt or badge.\n\nSee you soon!
URL:https://shrineparties.com/event/austin-april-munch-24/
LOCATION:The Hideout Pub\, 12164 TX-1 Loop\, Austin\, TX\, 78758\, United States
CATEGORIES:Austin
END:VEVENT
BEGIN:VEVENT
DTSTART;VALUE=DATE:20240320
DTEND;VALUE=DATE:20240325
DTSTAMP:20260424T042338
CREATED:20240209T070000Z
LAST-MODIFIED:20240209T070000Z
UID:10000041-1710892800-1711324799@shrineparties.com
SUMMARY:South Plains Leatherfest -Sold Out
DESCRIPTION:Whether you have been in the kink\, leather or M/s communities for years or just found us\, you will find a home at South Plains Leatherfest. We are a gathering space for our community that is accessible\, fun\, hot and embracing for all. \nCome to SPLF for Education\, Vendors\, On-site Play Parties\, Living Room social area\, Entertainment\, Bootblacks and Barbershop\, Hospitality Parties\, Step-down Lunch Celebration\, Debauchery\, Hot Seat Cafe Lunch\, The International M/s and the International POL Contests. \nOur commitment is to produce a world-class Leather event that is welcoming\, accessible\, relevant\, and transformative for all attendees.
URL:https://shrineparties.com/event/south-plains-leatherfest-sold-out/
LOCATION:Texas
CATEGORIES:Austin,Dallas
END:VEVENT
BEGIN:VEVENT
DTSTART;TZID=UTC:20240317T183000
DTEND;TZID=UTC:20240318T010000
DTSTAMP:20260424T042338
CREATED:20240116T195311Z
LAST-MODIFIED:20240215T210359Z
UID:10000007-1710700200-1710723600@shrineparties.com
SUMMARY:Austin March Shrine
DESCRIPTION:Entry Rules \n\nValid 18+ ID.\n$15 cover for each person. This is a temporary Shrine event-only membership and entry.\nYou must agree to the waivers and disclaimers of Shrine’s BDSM\, Fetish\, and Lifestyle Event.\nNO alcohol or drug consumption is allowed. This permits a safe play environment.\nNO cameras or phones are allowed inside the event. Designated phone areas are the lobby\, porch\, or outside the venue. You will be asked to put away your device or go outside.\nStreetwear to the door and your choice on the inside. 😉\n\nHosted at colette Austin\, this club offers 9\,000 sq ft of event space with ten beds\, various BDSM and Fetish equipment\, one hard point next to a bed\, two portable rigs on an upper stage platform\, mats for primal and rough body play\, allocated spaces for fire play\, whips/long distance impact\, and blood/needle play\, and a large social area!
URL:https://shrineparties.com/event/austin-march-shrine/
LOCATION:colette Austin\, 13800 Dragline Dr\, Austin\, Texas\, Entry Rules Valid 18+ ID. $15 cover for each person. This is a temporary Shrine event-only membership and entry. You must agree to the waivers and disclaimers of Shrine's BDSM\, Fetish\, and Lifestyle Event. NO alcohol or drug consumption is allowed. This permits a safe play environment. NO cameras or phones are allowed inside the event. Designated phone areas are the lobby\, porch\, or outside the venue. You will be asked to put away your device or go outside. Streetwear to the door and your choice on the inside. ;) Hosted at colette Austin\, this club offers 9\,000 sq ft of event space with ten beds\, various BDSM and Fetish equipment\, one hard point next to a bed\, two portable rigs on an upper stage platform\, mats for primal and rough body play\, allocated spaces for fire play\, whips/long distance impact\, and blood/needle play\, and a large social area!
CATEGORIES:Austin
END:VEVENT
BEGIN:VEVENT
DTSTART;TZID=UTC:20240313T190000
DTEND;TZID=UTC:20240313T220000
DTSTAMP:20260424T042338
CREATED:20240202T214409Z
LAST-MODIFIED:20240202T214409Z
UID:10000029-1710356400-1710367200@shrineparties.com
SUMMARY:Austin March Munch
DESCRIPTION:If you are looking to meet folks\, discuss scenes\, or talk kink before Shrine in a casual setting\, then you should attend our munch! \nTypically the Wednesday before Shrine at the Hideout Pub. Valentines Day falls on the Wednesday before Shrine so we will be hosting February’s Munch two weeks before Shrine \nKnow before you go: \n\n21+\, tip your bartenders.\nKitchen open until midnight.\nStreetwear only\nThe group is on the back porch\, weather permitted. You can find hosts wearing a Shrine shirt or badge.\n\nSee you soon!
URL:https://shrineparties.com/event/austin-march-munch-24/
LOCATION:The Hideout Pub\, 12164 TX-1 Loop\, Austin\, TX\, 78758\, United States
CATEGORIES:Austin
END:VEVENT
BEGIN:VEVENT
DTSTART;TZID=UTC:20240303T120000
DTEND;TZID=UTC:20240303T180000
DTSTAMP:20260424T042338
CREATED:20240116T194928Z
LAST-MODIFIED:20240402T154450Z
UID:10000004-1709467200-1709488800@shrineparties.com
SUMMARY:PaW Spring DM Training
DESCRIPTION:PaW welcomes you to attend the spring DM training! This course will allow you to become a certified DM (upon completion of course and proof of current and valid CPR/First Aid certification). This certification can be applied with many groups across Texas and beyond. To sign up please follow the link attached\, address will be provided after verification.
URL:https://shrineparties.com/event/paw-spring-dm-training/
LOCATION:Texas
CATEGORIES:Austin
END:VEVENT
BEGIN:VEVENT
DTSTART;TZID=UTC:20240218T183000
DTEND;TZID=UTC:20240219T010000
DTSTAMP:20260424T042338
CREATED:20240116T185413Z
LAST-MODIFIED:20240215T210319Z
UID:10000005-1708281000-1708304400@shrineparties.com
SUMMARY:Austin February Shrine
DESCRIPTION:Entry Rules \n\nValid 18+ ID.\n$15 cover for each person. This is a temporary Shrine event-only membership and entry.\nYou must agree to the waivers and disclaimers of Shrine’s BDSM\, Fetish\, and Lifestyle Event.\nNO alcohol or drug consumption is allowed. This permits a safe play environment.\nNO cameras or phones are allowed inside the event. Designated phone areas are the lobby\, porch\, or outside the venue. You will be asked to put away your device or go outside.\nStreetwear to the door and your choice on the inside. 😉\n\nHosted at colette Austin\, this club offers 9\,000 sq ft of event space with ten beds\, various BDSM and Fetish equipment\, one hard point next to a bed\, two portable rigs on an upper stage platform\, mats for primal and rough body play\, allocated spaces for fire play\, whips/long distance impact\, and blood/needle play\, and a large social area!
URL:https://shrineparties.com/event/austin-february-shrine/
LOCATION:colette Austin\, 13800 Dragline Dr\, Austin\, Texas\, Entry Rules Valid 18+ ID. $15 cover for each person. This is a temporary Shrine event-only membership and entry. You must agree to the waivers and disclaimers of Shrine's BDSM\, Fetish\, and Lifestyle Event. NO alcohol or drug consumption is allowed. This permits a safe play environment. NO cameras or phones are allowed inside the event. Designated phone areas are the lobby\, porch\, or outside the venue. You will be asked to put away your device or go outside. Streetwear to the door and your choice on the inside. ;) Hosted at colette Austin\, this club offers 9\,000 sq ft of event space with ten beds\, various BDSM and Fetish equipment\, one hard point next to a bed\, two portable rigs on an upper stage platform\, mats for primal and rough body play\, allocated spaces for fire play\, whips/long distance impact\, and blood/needle play\, and a large social area!
CATEGORIES:Austin
END:VEVENT
BEGIN:VEVENT
DTSTART;TZID=UTC:20240207T190000
DTEND;TZID=UTC:20240207T220000
DTSTAMP:20260424T042338
CREATED:20240202T213826Z
LAST-MODIFIED:20240202T213826Z
UID:10000028-1707332400-1707343200@shrineparties.com
SUMMARY:Austin February Munch
DESCRIPTION:If you are looking to meet folks\, discuss scenes\, or talk kink before Shrine in a casual setting\, then you should attend our munch! \nTypically the Wednesday before Shrine at the Hideout Pub. Valentines Day falls on the Wednesday before Shrine so we will be hosting February’s Munch two weeks before Shrine \nKnow before you go: \n\n21+\, tip your bartenders.\nKitchen open until midnight.\nStreetwear only\nThe group is on the back porch\, weather permitted. You can find hosts wearing a Shrine shirt or badge.\n\nSee you soon!
URL:https://shrineparties.com/event/austin-february-munch/
LOCATION:The Hideout Pub\, 12164 TX-1 Loop\, Austin\, TX\, 78758\, United States
CATEGORIES:Austin
END:VEVENT
END:VCALENDAR